BEGIN:VCALENDAR
VERSION:2.0
PRODID:icalendar-ruby
CALSCALE:GREGORIAN
METHOD:PUBLISH
BEGIN:VEVENT
DTSTAMP:20260421T115411Z
UID:65-1040724@equipchurch.com
DTSTART:20260425T233000Z
DTEND:20260426T143000Z
CLASS:PUBLIC
CREATED:20260421T205615
DESCRIPTION:
LAST-MODIFIED:20260421T205615
LOCATION:147-155 Hogans Road\, Hoppers Crossing
SUMMARY:Sunday Service
URL;VALUE=URI:https://www.equipchurch.com/events/sunday-service/2026-04-26
ATTACH;FILENAME=2.jpg;FMTTYPE=image/jpeg:https://dq5pwpg1q8ru0.cloudfront.n
 et/2024/06/06/05/51/34/873bbad1-2365-4dcb-a5b5-ef12130d921e/2.jpg
END:VEVENT
END:VCALENDAR
