BEGIN:VCALENDAR
VERSION:2.0
PRODID:icalendar-ruby
CALSCALE:GREGORIAN
METHOD:PUBLISH
BEGIN:VEVENT
DTSTAMP:20260421T115410Z
UID:66-1040940@equipchurch.com
DTSTART:20260426T000000Z
DTEND:20260426T013000Z
CLASS:PUBLIC
CREATED:20260421T205615
DESCRIPTION:
LAST-MODIFIED:20260421T205615
LOCATION:85 Ribblesdale Ave\, Wyndham Vale VIC 
SUMMARY:Sunday Service
URL;VALUE=URI:https://www.equipchurch.com/events/sunday-service--66/2026-04
 -26
ATTACH;FILENAME=1.jpg;FMTTYPE=image/jpeg:https://dq5pwpg1q8ru0.cloudfront.n
 et/2024/06/06/05/51/01/fcc518d1-b145-451e-ac26-0d61d1cb1214/1.jpg
END:VEVENT
END:VCALENDAR
